BEGIN:VCALENDAR
VERSION:2.0
PRODID:-//Conservation Communicators - ECPv4.9.13//NONSGML v1.0//EN
CALSCALE:GREGORIAN
METHOD:PUBLISH
X-WR-CALNAME:Conservation Communicators
X-ORIGINAL-URL:https://conservationcommunicators.co.nz
X-WR-CALDESC:Events for Conservation Communicators
BEGIN:VTIMEZONE
TZID:Pacific/Auckland
BEGIN:STANDARD
TZOFFSETFROM:+1300
TZOFFSETTO:+1200
TZNAME:NZST
DTSTART:20190406T140000
END:STANDARD
BEGIN:DAYLIGHT
TZOFFSETFROM:+1200
TZOFFSETTO:+1300
TZNAME:NZDT
DTSTART:20190928T140000
END:DAYLIGHT
END:VTIMEZONE
BEGIN:VEVENT
DTSTART;VALUE=DATE:20191028
DTEND;VALUE=DATE:20191111
DTSTAMP:20191219T010938
CREATED:20190630T001313Z
LAST-MODIFIED:20190630T001313Z
UID:1455-1572220800-1573430399@conservationcommunicators.co.nz
SUMMARY:Bird of the Year
DESCRIPTION:
URL:https://conservationcommunicators.co.nz/calendar/bird-of-the-year/
END:VEVENT
END:VCALENDAR